BEGIN:VCALENDAR
VERSION:2.0
PRODID:-//eventon.com NONSGML v1.0//EN
BEGIN:VEVENT
UID:69e5480c3ec07
DTSTAMP:20260419T232428
DTSTART:20260412
DTEND:20260412
TZID:UTC
LOCATION:
SUMMARY:Impetus-collapse-stasis
DESCRIPTION: Impetus &#8211; Collapse &#8211; Stasis by Snežana Nešić (2020) Score follower video (score + audio) Link: https://www.youtube.com/watch?v=jSrnlMgCzmg performed by ensemble ur.werk: Anne Mareike Bischof (flute)\,  Taavi Orro (clarinet\,  bass clarinet)\,  Sem R. A. Wendt (bass clarinet)\,  Başak Kömürcügil (bassoon)\,  Diego Tasa Chaveli (trumpet)\,  Yukyeong Ji (piano)\,  Dörte Siefert\,  Kai Altendorf[..]\nhttps://www.snezana-nesic.de/events/impetus-collapse-stasis/
URL:https://www.snezana-nesic.de/events/impetus-collapse-stasis/
END:VEVENT
END:VCALENDAR