BEGIN:VCALENDAR
VERSION:2.0
PRODID:-//eventon.com NONSGML v1.0//EN
BEGIN:VEVENT
UID:69e5e22baa2b2
DTSTAMP:20260420T102203
DTSTART:20220820T100000Z
DTEND:20220820T180000Z
TZID:UTC
LOCATION:
SUMMARY:#LABORATORIUM KLANGZEICHEN III KOMPOSITIONSWORKSHOP
DESCRIPTION: Hannover Musik 21 Nachwuchs Dozent*innen Snezana Nesic (Komponistin\,  Akkordeonistin\,  Dirigentin) | Daniel Moreira (Komponist\,  Gittarist\,  Dirigent) Junge Musiker*innen und Komponisten*innen können im Rahmen des Workshops wertvolle kreative Erfahrungen und einen guten Einblick in die Verwirklichung neuer Kompositionen gewinnen: Vom Moment der Entstehung erster »Ideen« und der Entwicklung einer Partitur/eines Tracks[..]\nhttps://www.snezana-nesic.de/events/laboratorium-klangzeichen-ii-kompositionsworkshop/
URL:https://www.snezana-nesic.de/events/laboratorium-klangzeichen-ii-kompositionsworkshop/
END:VEVENT
END:VCALENDAR