BEGIN:VCALENDAR
VERSION:2.0
PRODID:-//eventon.com NONSGML v1.0//EN
BEGIN:VEVENT
UID:69e4d88479157
DTSTAMP:20260419T152836
DTSTART:20210516T150000Z
DTEND:20210516T235000Z
TZID:UTC
LOCATION:
SUMMARY:International Festival Eufonija
DESCRIPTION: Zoom &#8211; conference presentation by Snezana Nesic : &#8222;Classical Accordion and its Use in Contemporary Orchestral Practice&#8220;\nhttps://www.snezana-nesic.de/events/international-festival-eufonija/
URL:https://www.snezana-nesic.de/events/international-festival-eufonija/
END:VEVENT
END:VCALENDAR